Workbook

Sheet KOSPI
A1: Date | B1: 5년 국채선물 추종 지수 | C1: 10년국채선물지수 | D1: 코스피 200 변동성지수 | E1: 코스피 | F1: 최근월물 CALL ATM | G1: 최근월물 PUT ATM
A2: ='KOSPI data'!A15 -> 45770 | B2: ='KOSPI data'!B15 -> 1034.12 | C2: ='KOSPI data'!C15 -> 1272.81 | D2: ='KOSPI data'!D15 -> 22.74 | E2: ='KOSPI data'!E15 -> 2525.56 | F2: ='KOSPI data'!F15 -> 239769 | G2: ='KOSPI data'!G15 -> 251856
A3: ='KOSPI data'!A16 -> 45771 | B3: ='KOSPI data'!B16 -> 1033.04 | C3: ='KOSPI data'!C16 -> 1269.76 | D3: ='KOSPI data'!D16 -> 22.79 | E3: ='KOSPI data'!E16 -> 2522.33 | F3: ='KOSPI data'!F16 -> 239278.4 | G3: ='KOSPI data'!G16 -> 263053
A4: ='KOSPI data'!A17 -> 45772 | B4: ='KOSPI data'!B17 -> 1035.12 | C4: ='KOSPI data'!C17 -> 1274.7 | D4: ='KOSPI data'!D17 -> 21.43 | E4: ='KOSPI data'!E17 -> 2546.3 | F4: ='KOSPI data'!F17 -> 259446.4 | G4: ='KOSPI data'!G17 -> 287158.2
A5: ='KOSPI data'!A18 -> 45775 | B5: ='KOSPI data'!B18 -> 1034.64 | C5: ='KOSPI data'!C18 -> 1273.55 | D5: ='KOSPI data'!D18 -> 21.23 | E5: ='KOSPI data'!E18 -> 2548.86 | F5: ='KOSPI data'!F18 -> 277488.8 | G5: ='KOSPI data'!G18 -> 297146.6
A6: ='KOSPI data'!A19 -> 45776 | B6: ='KOSPI data'!B19 -> 1033.98 | C6: ='KOSPI data'!C19 -> 1271.13 | D6: ='KOSPI data'!D19 -> 20.7 | E6: ='KOSPI data'!E19 -> 2565.42 | F6: ='KOSPI data'!F19 -> 313994.8 | G6: ='KOSPI data'!G19 -> 314668.4
A7: ='KOSPI data'!A20 -> 45777 | B7: ='KOSPI data'!B20 -> 1035.94 | C7: ='KOSPI data'!C20 -> 1275.33 | D7: ='KOSPI data'!D20 -> 20.74 | E7: ='KOSPI data'!E20 -> 2556.61 | F7: ='KOSPI data'!F20 -> 331547 | G7: ='KOSPI data'!G20 -> 320072.2
A8: ='KOSPI data'!A21 -> 45779 | B8: ='KOSPI data'!B21 -> 1034.82 | C8: ='KOSPI data'!C21 -> 1272.39 | D8: ='KOSPI data'!D21 -> 20.93 | E8: ='KOSPI data'!E21 -> 2559.79 | F8: ='KOSPI data'!F21 -> 364146.6 | G8: ='KOSPI data'!G21 -> 339401.8
A9: ='KOSPI data'!A22 -> 45784 | B9: ='KOSPI data'!B22 -> 1035.26 | C9: ='KOSPI data'!C22 -> 1271.44 | D9: ='KOSPI data'!D22 -> 21.01 | E9: ='KOSPI data'!E22 -> 2573.8 | F9: ='KOSPI data'!F22 -> 400000.2 | G9: ='KOSPI data'!G22 -> 363456
A10: ='KOSPI data'!A23 -> 45785 | B10: ='KOSPI data'!B23 -> 1034.14 | C10: ='KOSPI data'!C23 -> 1269.34 | D10: ='KOSPI data'!D23 -> 19.76 | E10: ='KOSPI data'!E23 -> 2579.48 | F10: ='KOSPI data'!F23 -> 654215.4 | G10: ='KOSPI data'!G23 -> 539912.4
A11: ='KOSPI data'!A24 -> 45786 | B11: ='KOSPI data'!B24 -> 1031.92 | C11: ='KOSPI data'!C24 -> 1264.4 | D11: ='KOSPI data'!D24 -> 19.48 | E11: ='KOSPI data'!E24 -> 2577.27 | F11: ='KOSPI data'!F24 -> 615489.4 | G11: ='KOSPI data'!G24 -> 511531
A12: ='KOSPI data'!A25 -> 45789 | B12: ='KOSPI data'!B25 -> 1031.43 | C12: ='KOSPI data'!C25 -> 1262.4 | D12: ='KOSPI data'!D25 -> 19.2 | E12: ='KOSPI data'!E25 -> 2607.33 | F12: ='KOSPI data'!F25 -> 582363 | G12: ='KOSPI data'!G25 -> 472711.4
A13: ='KOSPI data'!A26 -> 45790 | B13: ='KOSPI data'!B26 -> 1029.46 | C13: ='KOSPI data'!C26 -> 1258.73 | D13: ='KOSPI data'!D26 -> 17.86 | E13: ='KOSPI data'!E26 -> 2608.42 | F13: ='KOSPI data'!F26 -> 551898 | G13: ='KOSPI data'!G26 -> 440361.8
... A246: ='KOSPI data'!A259 -> 46136 | B246: ='KOSPI data'!B259 -> 986.27 | C246: ='KOSPI data'!C259 -> 1164.34 | D246: ='KOSPI data'!D259 -> 53.56 | E246: ='KOSPI data'!E259 -> 6475.63 | F246: ='KOSPI data'!F259 -> 16702.8 | G246: ='KOSPI data'!G259 -> 62690.2

Sheet KOSDAQ
A1: Date | B1: 5년 국채선물 추종 지수 | C1: 10년국채선물지수 | D1: 코스피 200 변동성지수 | E1: 코스닥 | F1: 최근월물 CALL ATM | G1: 최근월물 PUT ATM
A2: ='KOSDAQ data'!A15 -> 45770 | B2: ='KOSDAQ data'!B15 -> 1034.12 | C2: ='KOSDAQ data'!C15 -> 1272.81 | D2: ='KOSDAQ data'!D15 -> 22.74 | E2: ='KOSDAQ data'!E15 -> 726.08 | F2: ='KOSPI data'!F15 -> 239769 | G2: ='KOSPI data'!G15 -> 251856
A3: ='KOSDAQ data'!A16 -> 45771 | B3: ='KOSDAQ data'!B16 -> 1033.04 | C3: ='KOSDAQ data'!C16 -> 1269.76 | D3: ='KOSDAQ data'!D16 -> 22.79 | E3: ='KOSDAQ data'!E16 -> 726.08 | F3: ='KOSPI data'!F16 -> 239278.4 | G3: ='KOSPI data'!G16 -> 263053
A4: ='KOSDAQ data'!A17 -> 45772 | B4: ='KOSDAQ data'!B17 -> 1035.12 | C4: ='KOSDAQ data'!C17 -> 1274.7 | D4: ='KOSDAQ data'!D17 -> 21.43 | E4: ='KOSDAQ data'!E17 -> 729.69 | F4: ='KOSPI data'!F17 -> 259446.4 | G4: ='KOSPI data'!G17 -> 287158.2
A5: ='KOSDAQ data'!A18 -> 45775 | B5: ='KOSDAQ data'!B18 -> 1034.64 | C5: ='KOSDAQ data'!C18 -> 1273.55 | D5: ='KOSDAQ data'!D18 -> 21.23 | E5: ='KOSDAQ data'!E18 -> 719.41 | F5: ='KOSPI data'!F18 -> 277488.8 | G5: ='KOSPI data'!G18 -> 297146.6
A6: ='KOSDAQ data'!A19 -> 45776 | B6: ='KOSDAQ data'!B19 -> 1033.98 | C6: ='KOSDAQ data'!C19 -> 1271.13 | D6: ='KOSDAQ data'!D19 -> 20.7 | E6: ='KOSDAQ data'!E19 -> 726.46 | F6: ='KOSPI data'!F19 -> 313994.8 | G6: ='KOSPI data'!G19 -> 314668.4
A7: ='KOSDAQ data'!A20 -> 45777 | B7: ='KOSDAQ data'!B20 -> 1035.94 | C7: ='KOSDAQ data'!C20 -> 1275.33 | D7: ='KOSDAQ data'!D20 -> 20.74 | E7: ='KOSDAQ data'!E20 -> 717.24 | F7: ='KOSPI data'!F20 -> 331547 | G7: ='KOSPI data'!G20 -> 320072.2
A8: ='KOSDAQ data'!A21 -> 45779 | B8: ='KOSDAQ data'!B21 -> 1034.82 | C8: ='KOSDAQ data'!C21 -> 1272.39 | D8: ='KOSDAQ data'!D21 -> 20.93 | E8: ='KOSDAQ data'!E21 -> 721.86 | F8: ='KOSPI data'!F21 -> 364146.6 | G8: ='KOSPI data'!G21 -> 339401.8
A9: ='KOSDAQ data'!A22 -> 45784 | B9: ='KOSDAQ data'!B22 -> 1035.26 | C9: ='KOSDAQ data'!C22 -> 1271.44 | D9: ='KOSDAQ data'!D22 -> 21.01 | E9: ='KOSDAQ data'!E22 -> 722.81 | F9: ='KOSPI data'!F22 -> 400000.2 | G9: ='KOSPI data'!G22 -> 363456
A10: ='KOSDAQ data'!A23 -> 45785 | B10: ='KOSDAQ data'!B23 -> 1034.14 | C10: ='KOSDAQ data'!C23 -> 1269.34 | D10: ='KOSDAQ data'!D23 -> 19.76 | E10: ='KOSDAQ data'!E23 -> 729.59 | F10: ='KOSPI data'!F23 -> 654215.4 | G10: ='KOSPI data'!G23 -> 539912.4
A11: ='KOSDAQ data'!A24 -> 45786 | B11: ='KOSDAQ data'!B24 -> 1031.92 | C11: ='KOSDAQ data'!C24 -> 1264.4 | D11: ='KOSDAQ data'!D24 -> 19.48 | E11: ='KOSDAQ data'!E24 -> 722.52 | F11: ='KOSPI data'!F24 -> 615489.4 | G11: ='KOSPI data'!G24 -> 511531
A12: ='KOSDAQ data'!A25 -> 45789 | B12: ='KOSDAQ data'!B25 -> 1031.43 | C12: ='KOSDAQ data'!C25 -> 1262.4 | D12: ='KOSDAQ data'!D25 -> 19.2 | E12: ='KOSDAQ data'!E25 -> 725.4 | F12: ='KOSPI data'!F25 -> 582363 | G12: ='KOSPI data'!G25 -> 472711.4
A13: ='KOSDAQ data'!A26 -> 45790 | B13: ='KOSDAQ data'!B26 -> 1029.46 | C13: ='KOSDAQ data'!C26 -> 1258.73 | D13: ='KOSDAQ data'!D26 -> 17.86 | E13: ='KOSDAQ data'!E26 -> 731.88 | F13: ='KOSPI data'!F26 -> 551898 | G13: ='KOSPI data'!G26 -> 440361.8
... A246: ='KOSDAQ data'!A259 -> 46136 | B246: ='KOSDAQ data'!B259 -> 986.27 | C246: ='KOSDAQ data'!C259 -> 1164.34 | D246: ='KOSDAQ data'!D259 -> 53.56 | E246: ='KOSDAQ data'!E259 -> 1203.84 | F246: ='KOSPI data'!F259 -> 16702.8 | G246: ='KOSPI data'!G259 -> 62690.2

Sheet 코스피200옵션 콜매수 거래량
A1: 일자 | B1: 기관 합계 | C1: 기타법인 | D1: 개인 | E1: 외국인 합계 | F1: 전체
A2: 2025/04/17 | B2: 10224 | C2: 2018 | D2: 75229 | E2: 163202 | F2: 250673
A3: 2025/04/18 | B3: 5950 | C3: 1951 | D3: 67329 | E3: 152215 | F3: 227445
A4: 2025/04/21 | B4: 4518 | C4: 2348 | D4: 63734 | E4: 137449 | F4: 208049
A5: 2025/04/22 | B5: 5048 | C5: 1253 | D5: 71934 | E5: 147816 | F5: 226051
A6: 2025/04/23 | B6: 12294 | C6: 2916 | D6: 98868 | E6: 172549 | F6: 286627 | G6: =AVERAGE(F2:F6) -> 239769 | H6: ='코스피200옵션 풋매수 거래량'!G6 -> 251856
A7: 2025/04/24 | B7: 8237 | C7: 5461 | D7: 86678 | E7: 147844 | F7: 248220 | G7: =AVERAGE(F3:F7) -> 239278.4 | H7: ='코스피200옵션 풋매수 거래량'!G7 -> 263053
A8: 2025/04/25 | B8: 15391 | C8: 2646 | D8: 100230 | E8: 210018 | F8: 328285 | G8: =AVERAGE(F4:F8) -> 259446.4 | H8: ='코스피200옵션 풋매수 거래량'!G8 -> 287158.2
A9: 2025/04/28 | B9: 7028 | C9: 2640 | D9: 84675 | E9: 203918 | F9: 298261 | G9: =AVERAGE(F5:F9) -> 277488.8 | H9: ='코스피200옵션 풋매수 거래량'!G9 -> 297146.6
A10: 2025/04/29 | B10: 18377 | C10: 3859 | D10: 104051 | E10: 282294 | F10: 408581 | G10: =AVERAGE(F6:F10) -> 313994.8 | H10: ='코스피200옵션 풋매수 거래량'!G10 -> 314668.4
A11: 2025/04/30 | B11: 14775 | C11: 12974 | D11: 108606 | E11: 238033 | F11: 374388 | G11: =AVERAGE(F7:F11) -> 331547 | H11: ='코스피200옵션 풋매수 거래량'!G11 -> 320072.2
A12: 2025/05/02 | B12: 17444 | C12: 6522 | D12: 132882 | E12: 254370 | F12: 411218 | G12: =AVERAGE(F8:F12) -> 364146.6 | H12: ='코스피200옵션 풋매수 거래량'!G12 -> 339401.8
A13: 2025/05/07 | B13: 41719 | C13: 9863 | D13: 174800 | E13: 281171 | F13: 507553 | G13: =AVERAGE(F9:F13) -> 400000.2 | H13: ='코스피200옵션 풋매수 거래량'!G13 -> 363456
A14: 2025/05/08 | B14: 322696 | C14: 24927 | D14: 391624 | E14: 830090 | F14: 1569337 | G14: =AVERAGE(F10:F14) -> 654215.4 | H14: ='코스피200옵션 풋매수 거래량'!G14 -> 539912.4
A15: 2025/05/09 | B15: 9007 | C15: 2788 | D15: 59520 | E15: 143636 | F15: 214951 | G15: =AVERAGE(F11:F15) -> 615489.4 | H15: ='코스피200옵션 풋매수 거래량'!G15 -> 511531
A16: 2025/05/12 | B16: 4393 | C16: 1976 | D16: 56784 | E16: 145603 | F16: 208756 | G16: =AVERAGE(F12:F16) -> 582363 | H16: ='코스피200옵션 풋매수 거래량'!G16 -> 472711.4
A17: 2025/05/13 | B17: 6500 | C17: 2677 | D17: 80542 | E17: 169174 | F17: 258893 | G17: =AVERAGE(F13:F17) -> 551898 | H17: ='코스피200옵션 풋매수 거래량'!G17 -> 440361.8
... A250: 2026/04/23 | B250: 383 | C250: 148 | D250: 5264 | E250: 8058 | F250: 13853 | G250: =AVERAGE(F246:F250) -> 16702.8 | H250: ='코스피200옵션 풋매수 거래량'!G250 -> 62690.2

Sheet 코스피200옵션 풋매수 거래량
A1: 일자 | B1: 기관 합계 | C1: 기타법인 | D1: 개인 | E1: 외국인 합계 | F1: 전체
A2: 2025/04/17 | B2: 8475 | C2: 2837 | D2: 69333 | E2: 158903 | F2: 239548
A3: 2025/04/18 | B3: 7132 | C3: 6109 | D3: 56291 | E3: 141855 | F3: 211387
A4: 2025/04/21 | B4: 7784 | C4: 2965 | D4: 58661 | E4: 152499 | F4: 221909
A5: 2025/04/22 | B5: 7673 | C5: 5297 | D5: 67234 | E5: 170045 | F5: 250249
A6: 2025/04/23 | B6: 10678 | C6: 6951 | D6: 107398 | E6: 211160 | F6: 336187 | G6: =AVERAGE(F2:F6) -> 251856
A7: 2025/04/24 | B7: 10377 | C7: 7748 | D7: 76166 | E7: 201242 | F7: 295533 | G7: =AVERAGE(F3:F7) -> 263053
A8: 2025/04/25 | B8: 12705 | C8: 7258 | D8: 91746 | E8: 220204 | F8: 331913 | G8: =AVERAGE(F4:F8) -> 287158.2
A9: 2025/04/28 | B9: 9389 | C9: 6864 | D9: 74035 | E9: 181563 | F9: 271851 | G9: =AVERAGE(F5:F9) -> 297146.6
A10: 2025/04/29 | B10: 15179 | C10: 12215 | D10: 101192 | E10: 209272 | F10: 337858 | G10: =AVERAGE(F6:F10) -> 314668.4
A11: 2025/04/30 | B11: 13122 | C11: 5342 | D11: 94553 | E11: 250189 | F11: 363206 | G11: =AVERAGE(F7:F11) -> 320072.2
A12: 2025/05/02 | B12: 18234 | C12: 6944 | D12: 124455 | E12: 242548 | F12: 392181 | G12: =AVERAGE(F8:F12) -> 339401.8
A13: 2025/05/07 | B13: 27044 | C13: 10807 | D13: 154286 | E13: 260047 | F13: 452184 | G13: =AVERAGE(F9:F13) -> 363456
A14: 2025/05/08 | B14: 228928 | C14: 46393 | D14: 341768 | E14: 537044 | F14: 1154133 | G14: =AVERAGE(F10:F14) -> 539912.4
A15: 2025/05/09 | B15: 11257 | C15: 2683 | D15: 46689 | E15: 135322 | F15: 195951 | G15: =AVERAGE(F11:F15) -> 511531
A16: 2025/05/12 | B16: 6715 | C16: 2516 | D16: 40319 | E16: 119558 | F16: 169108 | G16: =AVERAGE(F12:F16) -> 472711.4
A17: 2025/05/13 | B17: 10532 | C17: 3391 | D17: 65898 | E17: 150612 | F17: 230433 | G17: =AVERAGE(F13:F17) -> 440361.8
... A250: 2026/04/23 | B250: 2031 | C250: 641 | D250: 15471 | E250: 24606 | F250: 42749 | G250: =AVERAGE(F246:F250) -> 62690.2

Sheet 설명서
A1: 아래 코드를 구글코랩에 넣어서 실행(메모장에 복붙한다음 메모장에서 코렙으로 넣음 편함)
A2: import pandas as pd
A3: import matplotlib.pyplot as plt
A4: from sklearn.preprocessing import MinMaxScaler
A5: from google.colab import files
A7: # 엑셀 파일 업로드
A8: uploaded = files.upload()
A10: # 엑셀 파일 불러오기 (파일 이름을 실제 업로드한 파일 이름으로 설정)
A11: kospi_df = pd.read_excel('피어앤그리드.xlsx', sheet_name='KOSPI')
A12: kosdaq_df = pd.read_excel('피어앤그리드.xlsx', sheet_name='KOSDAQ')
A14: # 각 데이터프레임의 열 이름을 출력하여 확인
A15: print("KOSPI columns:", kospi_df.columns)
... A131: plt.show()

Sheet KOSPI data
A1: Refresh | B1: Last Update : 2026-04-24 16:46:28
A2: 0
A3: Time Series (Sector)
A4: Frequency | B4: D | C4: Ascending | D4: 0
A5: Period(From) | B5: 20250423 | C5: Korean | D5: 0
A6: Period(To) | B6: 20260424 | D6: 0
A8: Code | B8: IKG245 | C8: IKG005 | D8: IKS221 | E8: IKS001 | F8: KTOAC00 | G8: KTOAP00
A9: Name | B9: 5년 국채선물 추종 지수 | C9: 10년국채선물지수 | D9: 코스피 200 변동성지수 | E9: 코스피 | F9: 최근월물 CALL ATM | G9: 최근월물 PUT ATM
A10: Item Code | B10: I100100 | C10: I100100 | D10: I100100 | E10: I100100 | F10: P102900 | G10: P102900
A11: Unit | B11: P | C11: P | D11: P | E11: P | F11: Shares | G11: Shares
A12: Base Date
A14: D A T E | B14: 종가지수 | C14: 종가지수 | D14: 종가지수 | E14: 종가지수 | F14: 5일평균거래량 | G14: 5일평균거래량
A15: 45770 | B15: 1034.12 | C15: 1272.81 | D15: 22.74 | E15: 2525.56 | F15: 239769 | G15: 251856
A16: 45771 | B16: 1033.04 | C16: 1269.76 | D16: 22.79 | E16: 2522.33 | F16: 239278.4 | G16: 263053
A17: 45772 | B17: 1035.12 | C17: 1274.7 | D17: 21.43 | E17: 2546.3 | F17: 259446.4 | G17: 287158.2
A18: 45775 | B18: 1034.64 | C18: 1273.55 | D18: 21.23 | E18: 2548.86 | F18: 277488.8 | G18: 297146.6
A19: 45776 | B19: 1033.98 | C19: 1271.13 | D19: 20.7 | E19: 2565.42 | F19: 313994.8 | G19: 314668.4
A20: 45777 | B20: 1035.94 | C20: 1275.33 | D20: 20.74 | E20: 2556.61 | F20: 331547 | G20: 320072.2
A21: 45779 | B21: 1034.82 | C21: 1272.39 | D21: 20.93 | E21: 2559.79 | F21: 364146.6 | G21: 339401.8
A22: 45784 | B22: 1035.26 | C22: 1271.44 | D22: 21.01 | E22: 2573.8 | F22: 400000.2 | G22: 363456
A23: 45785 | B23: 1034.14 | C23: 1269.34 | D23: 19.76 | E23: 2579.48 | F23: 654215.4 | G23: 539912.4
A24: 45786 | B24: 1031.92 | C24: 1264.4 | D24: 19.48 | E24: 2577.27 | F24: 615489.4 | G24: 511531
A25: 45789 | B25: 1031.43 | C25: 1262.4 | D25: 19.2 | E25: 2607.33 | F25: 582363 | G25: 472711.4
A26: 45790 | B26: 1029.46 | C26: 1258.73 | D26: 17.86 | E26: 2608.42 | F26: 551898 | G26: 440361.8
... A259: 46136 | B259: 986.27 | C259: 1164.34 | D259: 53.56 | E259: 6475.63 | F259: 16702.8 | G259: 62690.2

Sheet KOSDAQ data
A1: Refresh | B1: Last Update : 2026-04-24 16:46:33
A2: 0
A3: Time Series (Sector)
A4: Frequency | B4: D | C4: Ascending | D4: 0
A5: Period(From) | B5: ='KOSPI data'!B5 -> 20250423 | C5: Korean | D5: 0
A6: Period(To) | B6: ='KOSPI data'!B6 -> 20260424 | D6: 0
A8: Code | B8: IKG245 | C8: IKG005 | D8: IKS221 | E8: IKQ001 | F8: KTOAC00 | G8: KTOAP00
A9: Name | B9: 5년 국채선물 추종 지수 | C9: 10년국채선물지수 | D9: 코스피 200 변동성지수 | E9: 코스닥 | F9: 최근월물 CALL ATM | G9: 최근월물 PUT ATM
A10: Item Code | B10: I100100 | C10: I100100 | D10: I100100 | E10: I100100 | F10: P102900 | G10: P102900
A11: Unit | B11: P | C11: P | D11: P | E11: P | F11: Shares | G11: Shares
A12: Base Date
A14: D A T E | B14: 종가지수 | C14: 종가지수 | D14: 종가지수 | E14: 종가지수 | F14: 5일평균거래량 | G14: 5일평균거래량
A15: 45770 | B15: 1034.12 | C15: 1272.81 | D15: 22.74 | E15: 726.08 | F15: 239769 | G15: 251856
A16: 45771 | B16: 1033.04 | C16: 1269.76 | D16: 22.79 | E16: 726.08 | F16: 239278.4 | G16: 263053
A17: 45772 | B17: 1035.12 | C17: 1274.7 | D17: 21.43 | E17: 729.69 | F17: 259446.4 | G17: 287158.2
A18: 45775 | B18: 1034.64 | C18: 1273.55 | D18: 21.23 | E18: 719.41 | F18: 277488.8 | G18: 297146.6
A19: 45776 | B19: 1033.98 | C19: 1271.13 | D19: 20.7 | E19: 726.46 | F19: 313994.8 | G19: 314668.4
A20: 45777 | B20: 1035.94 | C20: 1275.33 | D20: 20.74 | E20: 717.24 | F20: 331547 | G20: 320072.2
A21: 45779 | B21: 1034.82 | C21: 1272.39 | D21: 20.93 | E21: 721.86 | F21: 364146.6 | G21: 339401.8
A22: 45784 | B22: 1035.26 | C22: 1271.44 | D22: 21.01 | E22: 722.81 | F22: 400000.2 | G22: 363456
A23: 45785 | B23: 1034.14 | C23: 1269.34 | D23: 19.76 | E23: 729.59 | F23: 654215.4 | G23: 539912.4
A24: 45786 | B24: 1031.92 | C24: 1264.4 | D24: 19.48 | E24: 722.52 | F24: 615489.4 | G24: 511531
A25: 45789 | B25: 1031.43 | C25: 1262.4 | D25: 19.2 | E25: 725.4 | F25: 582363 | G25: 472711.4
A26: 45790 | B26: 1029.46 | C26: 1258.73 | D26: 17.86 | E26: 731.88 | F26: 551898 | G26: 440361.8
... A259: 46136 | B259: 986.27 | C259: 1164.34 | D259: 53.56 | E259: 1203.84 | F259: 16702.8 | G259: 62690.2
