Workbook

Sheet 데이터
A1: DATE | B1: 코스피 | C1: KODEX 은행 | D1: KODEX 보험 | E1: KODEX 증권 | F1: KODEX 건설 | G1: KODEX 게임산업 | H1: PLUS 태양광&ESS | I1: KODEX 로봇액티브 | J1: KODEX 에너지화학 | K1: KODEX 반도체 | L1: SK하이닉스 | M1: 조선엔진3 | N1: 에이피알 | O1: PLUS 우주항공&UAM | P1: KODEX AI전력핵심설비 | Q1: 삼성전자 | R1: KODEX 바이오 | S1: TIGER 여행레저 | T1: TIGER 바이오TOP10 | U1: KODEX 자동차 | V1: TIGER 2차전지테마 | W1: TIGER 지주회사 | X1: KODEX K콘텐츠 | Y1: KODEX 웹툰&드라마 | Z1: RISE 네트워크인프라 | AA1: TIGER 화장품 | AB1: TIGER K방산&우주 | AC1: TIGER 소프트웨어 | AD1: PLUS K방산 | AE1: TIGER 200 중공업 | AF1: TIGER 중국소비테마 | AG1: TIGER 200 생활소비재 | AH1: HANARO Fn K-푸드 | AI1: HANARO Fn친환경에너지 | AJ1: TIGER 코스피고배당 | AK1: SOL 조선TOP3플러스 | AL1: SOL 반도체전공정 | AM1: SOL 반도체후공정 | AN1: TIGER 의료기기 | AO1: ACE 원자력TOP10 | AP1: KIWOOM 의료AI | AQ1: TIGER 코스닥150바이오테크 | AR1: HANARO K-뷰티 | AS1: STX엔진 | AT1: HD현대마린엔진 | AU1: 한화엔진
A2: 45758 | B2: 2432.72 | C2: 7725 | D2: 8047 | E2: 7363 | F2: 3054 | G2: 6326 | H2: 7947 | I2: 13126 | J2: 8986 | K2: 28948 | L2: 180800 | M2: =AVERAGE(Sheet2!AS15:AU15) -> 25550 | N2: 67800 | O2: 16787 | P2: 8903 | Q2: 55200 | R2: 8066 | S2: 2867 | T2: 7310 | U2: 16298 | V2: 13315 | W2: 9362 | X2: 11142 | Y2: 2900 | Z2: 9382 | AA2: 2892 | AB2: 18586 | AC2: 7681 | AD2: 33869 | AE2: 6705 | AF2: 6266 | AG2: 8665 | AH2: 11150 | AI2: 5882 | AJ2: 14182 | AK2: 20380 | AL2: 7091 | AM2: 8886 | AN2: 14711 | AO2: 18556 | AP2: 9320 | AQ2: 13495 | AR2: 11957
A3: 45761 | B3: 2455.89 | C3: 7773 | D3: 8112 | E3: 7402 | F3: 3054 | G3: 6376 | H3: 8031 | I3: 13422 | J3: 9075 | K3: 29190 | L3: 180200 | M3: =AVERAGE(Sheet2!AS16:AU16) -> 27000 | N3: 67600 | O3: 17348 | P3: 9076 | Q3: 56200 | R3: 8300 | S3: 2892 | T3: 7420 | U3: 16390 | V3: 13495 | W3: 9450 | X3: 11112 | Y3: 2885 | Z3: 9551 | AA3: 2922 | AB3: 19166 | AC3: 7696 | AD3: 34727 | AE3: 6774 | AF3: 6335 | AG3: 8748 | AH3: 11244 | AI3: 5947 | AJ3: 14250 | AK3: 20864 | AL3: 7140 | AM3: 8916 | AN3: 15066 | AO3: 18709 | AP3: 9484 | AQ3: 13759 | AR3: 12027
A4: 45762 | B4: 2477.41 | C4: 7912 | D4: 8234 | E4: 7521 | F4: 3117 | G4: 6321 | H4: 8095 | I4: 13586 | J4: 9109 | K4: 29382 | L4: 180600 | M4: =AVERAGE(Sheet2!AS17:AU17) -> 27250 | N4: 65800 | O4: 17343 | P4: 9520 | Q4: 56600 | R4: 8260 | S4: 2927 | T4: 7355 | U4: 16955 | V4: 13505 | W4: 9557 | X4: 11132 | Y4: 2890 | Z4: 9571 | AA4: 2922 | AB4: 18986 | AC4: 7666 | AD4: 34408 | AE4: 6849 | AF4: 6439 | AG4: 8861 | AH4: 11367 | AI4: 5987 | AJ4: 14447 | AK4: 20954 | AL4: 7290 | AM4: 8931 | AN4: 15120 | AO4: 19338 | AP4: 9389 | AQ4: 13635 | AR4: 11977
A5: 45763 | B5: 2447.43 | C5: 7989 | D5: 8173 | E5: 7540 | F5: 3083 | G5: 6311 | H5: 7775 | I5: 13304 | J5: 8911 | K5: 28332 | L5: 174000 | M5: =AVERAGE(Sheet2!AS18:AU18) -> 26850 | N5: 68400 | O5: 17353 | P5: 9209 | Q5: 54700 | R5: 8130 | S5: 2907 | T5: 7235 | U5: 16699 | V5: 13085 | W5: 9455 | X5: 11068 | Y5: 2840 | Z5: 9332 | AA5: 2961 | AB5: 19346 | AC5: 7612 | AD5: 34592 | AE5: 6755 | AF5: 6400 | AG5: 8964 | AH5: 11580 | AI5: 5882 | AJ5: 14567 | AK5: 20700 | AL5: 6986 | AM5: 8587 | AN5: 15086 | AO5: 18902 | AP5: 9315 | AQ5: 13365 | AR5: 12087
A6: 45764 | B6: 2470.41 | C6: 8013 | D6: 8206 | E6: 7550 | F6: 3093 | G6: 6475 | H6: 7942 | I6: 13536 | J6: 9065 | K6: 28864 | L6: 175000 | M6: =AVERAGE(Sheet2!AS19:AU19) -> 27300 | N6: 71500 | O6: 17760 | P6: 9560 | Q6: 55100 | R6: 8325 | S6: 2936 | T6: 7380 | U6: 16728 | V6: 13200 | W6: 9552 | X6: 11257 | Y6: 2930 | Z6: 9402 | AA6: 3061 | AB6: 19995 | AC6: 7736 | AD6: 35799 | AE6: 6988 | AF6: 6568 | AG6: 9008 | AH6: 11614 | AI6: 6047 | AJ6: 14611 | AK6: 21144 | AL6: 7116 | AM6: 8926 | AN6: 15199 | AO6: 19451 | AP6: 9404 | AQ6: 13689 | AR6: 12436
A7: 45765 | B7: 2483.42 | C7: 8128 | D7: 8275 | E7: 7607 | F7: 3152 | G7: 6470 | H7: 8026 | I7: 13536 | J7: 9045 | K7: 29037 | L7: 175000 | M7: =AVERAGE(Sheet2!AS20:AU20) -> 27233.333 | N7: 72000 | O7: 17825 | P7: 9491 | Q7: 55300 | R7: 8425 | S7: 2951 | T7: 7440 | U7: 16974 | V7: 13145 | W7: 9610 | X7: 11386 | Y7: 2930 | Z7: 9486 | AA7: 3046 | AB7: 19920 | AC7: 7811 | AD7: 35904 | AE7: 7052 | AF7: 6533 | AG7: 9042 | AH7: 11718 | AI7: 6002 | AJ7: 14741 | AK7: 20909 | AL7: 7140 | AM7: 9061 | AN7: 15258 | AO7: 19837 | AP7: 9519 | AQ7: 13974 | AR7: 12361
A8: 45768 | B8: 2488.42 | C8: 8220 | D8: 8331 | E8: 7804 | F8: 3132 | G8: 6421 | H8: 8076 | I8: 13492 | J8: 9045 | K8: 29259 | L8: 176600 | M8: =AVERAGE(Sheet2!AS21:AU21) -> 26400 | N8: 71700 | O8: 17805 | P8: 9446 | Q8: 55400 | R8: 8405 | S8: 2966 | T8: 7405 | U8: 16969 | V8: 13000 | W8: 9586 | X8: 11341 | Y8: 2905 | Z8: 9486 | AA8: 3041 | AB8: 19890 | AC8: 7786 | AD8: 35774 | AE8: 6983 | AF8: 6528 | AG8: 9086 | AH8: 11659 | AI8: 5967 | AJ8: 14904 | AK8: 20395 | AL8: 7240 | AM8: 9151 | AN8: 15239 | AO8: 19758 | AP8: 9519 | AQ8: 13734 | AR8: 12476
A9: 45769 | B9: 2486.64 | C9: 8244 | D9: 8364 | E9: 7942 | F9: 3113 | G9: 6401 | H9: 8016 | I9: 13595 | J9: 9030 | K9: 28924 | L9: 173800 | M9: =AVERAGE(Sheet2!AS22:AU22) -> 27150 | N9: 71700 | O9: 18043 | P9: 9061 | Q9: 55000 | R9: 8490 | S9: 2936 | T9: 7475 | U9: 16887 | V9: 12896 | W9: 9547 | X9: 11336 | Y9: 2965 | Z9: 9416 | AA9: 3021 | AB9: 20490 | AC9: 7811 | AD9: 36597 | AE9: 6978 | AF9: 6494 | AG9: 9180 | AH9: 11629 | AI9: 6017 | AJ9: 14977 | AK9: 20874 | AL9: 7111 | AM9: 8926 | AN9: 15239 | AO9: 19412 | AP9: 9494 | AQ9: 13944 | AR9: 12386
A10: 45770 | B10: 2525.56 | C10: 8296 | D10: 8471 | E10: 8095 | F10: 3147 | G10: 6421 | H10: 8346 | I10: 13714 | J10: 9297 | K10: 30220 | L10: 181000 | M10: =AVERAGE(Sheet2!AS23:AU23) -> 27433.333 | N10: 71100 | O10: 17969 | P10: 9283 | Q10: 55700 | R10: 8540 | S10: 2976 | T10: 7495 | U10: 17438 | V10: 13610 | W10: 9800 | X10: 11391 | Y10: 2960 | Z10: 9675 | AA10: 3001 | AB10: 20070 | AC10: 7835 | AD10: 36043 | AE10: 7003 | AF10: 6489 | AG10: 9091 | AH10: 11530 | AI10: 6221 | AJ10: 15068 | AK10: 21164 | AL10: 7513 | AM10: 9400 | AN10: 15209 | AO10: 19560 | AP10: 9474 | AQ10: 14009 | AR10: 12296
A11: 45771 | B11: 2522.33 | C11: 8320 | D11: 8443 | E11: 8095 | F11: 3201 | G11: 6480 | H11: 8282 | I11: 13650 | J11: 9381 | K11: 29836 | L11: 178300 | M11: =AVERAGE(Sheet2!AS24:AU24) -> 27933.333 | N11: 74800 | O11: 18177 | P11: 9229 | Q11: 55700 | R11: 8560 | S11: 2956 | T11: 7410 | U11: 17433 | V11: 13420 | W11: 9781 | X11: 11356 | Y11: 2965 | Z11: 9561 | AA11: 3051 | AB11: 20135 | AC11: 7860 | AD11: 36223 | AE11: 7151 | AF11: 6632 | AG11: 9184 | AH11: 11550 | AI11: 6286 | AJ11: 15078 | AK11: 22067 | AL11: 7459 | AM11: 9295 | AN11: 15515 | AO11: 19813 | AP11: 9399 | AQ11: 13989 | AR11: 12600
A12: 45772 | B12: 2546.3 | C12: 8407 | D12: 8424 | E12: 8172 | F12: 3201 | G12: 6510 | H12: 8371 | I12: 13719 | J12: 9564 | K12: 30349 | L12: 184400 | M12: =AVERAGE(Sheet2!AS25:AU25) -> 29166.667 | N12: 74900 | O12: 18316 | P12: 9570 | Q12: 55700 | R12: 8540 | S12: 2971 | T12: 7315 | U12: 17394 | V12: 13595 | W12: 9961 | X12: 11386 | Y12: 3000 | Z12: 9789 | AA12: 3096 | AB12: 20390 | AC12: 7845 | AD12: 37350 | AE12: 7444 | AF12: 6573 | AG12: 9209 | AH12: 11614 | AI12: 6411 | AJ12: 15212 | AK12: 23180 | AL12: 7528 | AM12: 9569 | AN12: 15377 | AO12: 20189 | AP12: 9355 | AQ12: 13859 | AR12: 12725
A13: 45775 | B13: 2548.86 | C13: 8373 | D13: 8485 | E13: 8215 | F13: 3265 | G13: 6570 | H13: 8110 | I13: 13640 | J13: 9470 | K13: 29535 | L13: 182000 | M13: =AVERAGE(Sheet2!AS26:AU26) -> 30216.667 | N13: 75000 | O13: 18495 | P13: 9550 | Q13: 55800 | R13: 8370 | S13: 3030 | T13: 7210 | U13: 17404 | V13: 13615 | W13: 9932 | X13: 11530 | Y13: 3010 | Z13: 9670 | AA13: 3096 | AB13: 20560 | AC13: 7910 | AD13: 37285 | AE13: 7548 | AF13: 6657 | AG13: 9248 | AH13: 11555 | AI13: 6381 | AJ13: 15179 | AK13: 23355 | AL13: 7220 | AM13: 9360 | AN13: 15145 | AO13: 20535 | AP13: 9195 | AQ13: 13510 | AR13: 12715
... A255: 46139 | B255: 6615.03 | C255: 15745 | D255: 16155 | E255: 28960 | F255: 9470 | G255: 6975 | H255: 33790 | I255: 35710 | J255: 18090 | K255: 125360 | L255: 1292000 | M255: =AVERAGE(Sheet2!AS268:AU268) -> 87966.667 | N255: 449000 | O255: 48580 | P255: 49360 | Q255: 224500 | R255: 12710 | S255: 3470 | T255: 8325 | U255: 32715 | V255: 25725 | W255: 24150 | X255: 12230 | Y255: 2610 | Z255: 47945 | AA255: 4155 | AB255: 50305 | AC255: 9400 | AD255: 79270 | AE255: 20250 | AF255: 8320 | AG255: 14525 | AH255: 12390 | AI255: 14395 | AJ255: 26600 | AK255: 42325 | AL255: 22000 | AM255: 35605 | AN255: 18850 | AO255: 88500 | AP255: 13630 | AQ255: 19310 | AR255: 18275

Sheet Sheet2
A1: Refresh | B1: Last Update : 2026-04-27 15:33:19
A2: 0
A3: Time Series (Company)
A4: Frequency | B4: D | C4: Ascending | D4: 0
A5: Period(From) | B5: 20250411 | C5: Korean | D5: 0
A6: Period(To) | B6: 20260427 | D6: 0
A8: Code | B8: IKS001 | C8: A091170 | D8: A140700 | E8: A102970 | F8: A117700 | G8: A300950 | H8: A457990 | I8: A445290 | J8: A117460 | K8: A091160 | L8: A000660 | M8: A0141S0 | N8: A278470 | O8: A421320 | P8: A487240 | Q8: A005930 | R8: A244580 | S8: A228800 | T8: A364970 | U8: A091180 | V8: A305540 | W8: A307520 | X8: A266360 | Y8: A395150 | Z8: A367760 | AA8: A228790 | AB8: A463250 | AC8: A157490 | AD8: A449450 | AE8: A139230 | AF8: A150460 | AG8: A227560 | AH8: A438900 | AI8: A381570 | AJ8: A210780 | AK8: A466920 | AL8: A475300 | AM8: A475310 | AN8: A307510 | AO8: A433500 | AP8: A483020 | AQ8: A261070 | AR8: A479850 | AS8: A077970 | AT8: A071970 | AU8: A082740
A9: Name | B9: 코스피 | C9: KODEX 은행 | D9: KODEX 보험 | E9: KODEX 증권 | F9: KODEX 건설 | G9: KODEX 게임산업 | H9: PLUS 태양광&ESS | I9: KODEX 로봇액티브 | J9: KODEX 에너지화학 | K9: KODEX 반도체 | L9: SK하이닉스 | M9: SOL 조선기자재 | N9: 에이피알 | O9: PLUS 우주항공&UAM | P9: KODEX AI전력핵심설비 | Q9: 삼성전자 | R9: KODEX 바이오 | S9: TIGER 여행레저 | T9: TIGER 바이오TOP10 | U9: KODEX 자동차 | V9: TIGER 2차전지테마 | W9: TIGER 지주회사 | X9: KODEX K콘텐츠 | Y9: KODEX 웹툰&드라마 | Z9: RISE 네트워크인프라 | AA9: TIGER 화장품 | AB9: TIGER K방산&우주 | AC9: TIGER 소프트웨어 | AD9: PLUS K방산 | AE9: TIGER 200 중공업 | AF9: TIGER 중국소비테마 | AG9: TIGER 200 생활소비재 | AH9: HANARO Fn K-푸드 | AI9: HANARO Fn친환경에너지 | AJ9: TIGER 코스피고배당 | AK9: SOL 조선TOP3플러스 | AL9: SOL 반도체전공정 | AM9: SOL 반도체후공정 | AN9: TIGER 의료기기 | AO9: ACE 원자력TOP10 | AP9: KIWOOM 의료AI | AQ9: TIGER 코스닥150바이오테크 | AR9: HANARO K-뷰티 | AS9: STX엔진 | AT9: HD현대마린엔진 | AU9: 한화엔진
A10: Item Code | B10: S100100 | C10: S100300 | D10: S100300 | E10: S100300 | F10: S100300 | G10: S100300 | H10: S100300 | I10: S100300 | J10: S100300 | K10: S100300 | L10: S100300 | M10: S100300 | N10: S100300 | O10: S100300 | P10: S100300 | Q10: S100300 | R10: S100300 | S10: S100300 | T10: S100300 | U10: S100300 | V10: S100300 | W10: S100300 | X10: S100300 | Y10: S100300 | Z10: S100300 | AA10: S100300 | AB10: S100300 | AC10: S100300 | AD10: S100300 | AE10: S100300 | AF10: S100300 | AG10: S100300 | AH10: S100300 | AI10: S100300 | AJ10: S100300 | AK10: S100300 | AL10: S100300 | AM10: S100300 | AN10: S100300 | AO10: S100300 | AP10: S100300 | AQ10: S100300 | AR10: S100300 | AS10: S100300 | AT10: S100300 | AU10: S100300
A11: Unit | B11: Local/Shares | C11: Local/Shares | D11: Local/Shares | E11: Local/Shares | F11: Local/Shares | G11: Local/Shares | H11: Local/Shares | I11: Local/Shares | J11: Local/Shares | K11: Local/Shares | L11: Local/Shares | M11: Local/Shares | N11: Local/Shares | O11: Local/Shares | P11: Local/Shares | Q11: Local/Shares | R11: Local/Shares | S11: Local/Shares | T11: Local/Shares | U11: Local/Shares | V11: Local/Shares | W11: Local/Shares | X11: Local/Shares | Y11: Local/Shares | Z11: Local/Shares | AA11: Local/Shares | AB11: Local/Shares | AC11: Local/Shares | AD11: Local/Shares | AE11: Local/Shares | AF11: Local/Shares | AG11: Local/Shares | AH11: Local/Shares | AI11: Local/Shares | AJ11: Local/Shares | AK11: Local/Shares | AL11: Local/Shares | AM11: Local/Shares | AN11: Local/Shares | AO11: Local/Shares | AP11: Local/Shares | AQ11: Local/Shares | AR11: Local/Shares | AS11: Local/Shares | AT11: Local/Shares | AU11: Local/Shares
A12: Base Date
A14: D A T E | B14: 종가 | C14: 수정주가 | D14: 수정주가 | E14: 수정주가 | F14: 수정주가 | G14: 수정주가 | H14: 수정주가 | I14: 수정주가 | J14: 수정주가 | K14: 수정주가 | L14: 수정주가 | M14: 수정주가 | N14: 수정주가 | O14: 수정주가 | P14: 수정주가 | Q14: 수정주가 | R14: 수정주가 | S14: 수정주가 | T14: 수정주가 | U14: 수정주가 | V14: 수정주가 | W14: 수정주가 | X14: 수정주가 | Y14: 수정주가 | Z14: 수정주가 | AA14: 수정주가 | AB14: 수정주가 | AC14: 수정주가 | AD14: 수정주가 | AE14: 수정주가 | AF14: 수정주가 | AG14: 수정주가 | AH14: 수정주가 | AI14: 수정주가 | AJ14: 수정주가 | AK14: 수정주가 | AL14: 수정주가 | AM14: 수정주가 | AN14: 수정주가 | AO14: 수정주가 | AP14: 수정주가 | AQ14: 수정주가 | AR14: 수정주가 | AS14: 수정주가 | AT14: 수정주가 | AU14: 수정주가
A15: 45758 | B15: 2432.72 | C15: 7725 | D15: 8047 | E15: 7363 | F15: 3054 | G15: 6326 | H15: 9665 | I15: 13126 | J15: 8986 | K15: 28948 | L15: 180800 | N15: 67800 | O15: 16787 | P15: 8903 | Q15: 55200 | R15: 8066 | S15: 2867 | T15: 7310 | U15: 16298 | V15: 13315 | W15: 9362 | X15: 11142 | Y15: 2900 | Z15: 9382 | AA15: 2892 | AB15: 18586 | AC15: 7681 | AD15: 33869 | AE15: 6705 | AF15: 6266 | AG15: 8665 | AH15: 11150 | AI15: 5882 | AJ15: 14182 | AK15: 20380 | AL15: 7091 | AM15: 8886 | AN15: 14711 | AO15: 18556 | AP15: 9320 | AQ15: 13495 | AR15: 11957 | AS15: 21550 | AT15: 31200 | AU15: 23900
A16: 45761 | B16: 2455.89 | C16: 7773 | D16: 8112 | E16: 7402 | F16: 3054 | G16: 6376 | H16: 9804 | I16: 13422 | J16: 9075 | K16: 29190 | L16: 180200 | N16: 67600 | O16: 17348 | P16: 9076 | Q16: 56200 | R16: 8300 | S16: 2892 | T16: 7420 | U16: 16390 | V16: 13495 | W16: 9450 | X16: 11112 | Y16: 2885 | Z16: 9551 | AA16: 2922 | AB16: 19166 | AC16: 7696 | AD16: 34727 | AE16: 6774 | AF16: 6335 | AG16: 8748 | AH16: 11244 | AI16: 5947 | AJ16: 14250 | AK16: 20864 | AL16: 7140 | AM16: 8916 | AN16: 15066 | AO16: 18709 | AP16: 9484 | AQ16: 13759 | AR16: 12027 | AS16: 21900 | AT16: 33900 | AU16: 25200
A17: 45762 | B17: 2477.41 | C17: 7912 | D17: 8234 | E17: 7521 | F17: 3117 | G17: 6321 | H17: 9933 | I17: 13586 | J17: 9109 | K17: 29382 | L17: 180600 | N17: 65800 | O17: 17343 | P17: 9520 | Q17: 56600 | R17: 8260 | S17: 2927 | T17: 7355 | U17: 16955 | V17: 13505 | W17: 9557 | X17: 11132 | Y17: 2890 | Z17: 9571 | AA17: 2922 | AB17: 18986 | AC17: 7666 | AD17: 34408 | AE17: 6849 | AF17: 6439 | AG17: 8861 | AH17: 11367 | AI17: 5987 | AJ17: 14447 | AK17: 20954 | AL17: 7290 | AM17: 8931 | AN17: 15120 | AO17: 19338 | AP17: 9389 | AQ17: 13635 | AR17: 11977 | AS17: 22350 | AT17: 33900 | AU17: 25500
A18: 45763 | B18: 2447.43 | C18: 7989 | D18: 8173 | E18: 7540 | F18: 3083 | G18: 6311 | H18: 9705 | I18: 13304 | J18: 8911 | K18: 28332 | L18: 174000 | N18: 68400 | O18: 17353 | P18: 9209 | Q18: 54700 | R18: 8130 | S18: 2907 | T18: 7235 | U18: 16699 | V18: 13085 | W18: 9455 | X18: 11068 | Y18: 2840 | Z18: 9332 | AA18: 2961 | AB18: 19346 | AC18: 7612 | AD18: 34592 | AE18: 6755 | AF18: 6400 | AG18: 8964 | AH18: 11580 | AI18: 5882 | AJ18: 14567 | AK18: 20700 | AL18: 6986 | AM18: 8587 | AN18: 15086 | AO18: 18902 | AP18: 9315 | AQ18: 13365 | AR18: 12087 | AS18: 21900 | AT18: 33900 | AU18: 24750
A19: 45764 | B19: 2470.41 | C19: 8013 | D19: 8206 | E19: 7550 | F19: 3093 | G19: 6475 | H19: 10300 | I19: 13536 | J19: 9065 | K19: 28864 | L19: 175000 | N19: 71500 | O19: 17760 | P19: 9560 | Q19: 55100 | R19: 8325 | S19: 2936 | T19: 7380 | U19: 16728 | V19: 13200 | W19: 9552 | X19: 11257 | Y19: 2930 | Z19: 9402 | AA19: 3061 | AB19: 19995 | AC19: 7736 | AD19: 35799 | AE19: 6988 | AF19: 6568 | AG19: 9008 | AH19: 11614 | AI19: 6047 | AJ19: 14611 | AK19: 21144 | AL19: 7116 | AM19: 8926 | AN19: 15199 | AO19: 19451 | AP19: 9404 | AQ19: 13689 | AR19: 12436 | AS19: 22300 | AT19: 34350 | AU19: 25250
A20: 45765 | B20: 2483.42 | C20: 8128 | D20: 8275 | E20: 7607 | F20: 3152 | G20: 6470 | H20: 10260 | I20: 13536 | J20: 9045 | K20: 29037 | L20: 175000 | N20: 72000 | O20: 17825 | P20: 9491 | Q20: 55300 | R20: 8425 | S20: 2951 | T20: 7440 | U20: 16974 | V20: 13145 | W20: 9610 | X20: 11386 | Y20: 2930 | Z20: 9486 | AA20: 3046 | AB20: 19920 | AC20: 7811 | AD20: 35904 | AE20: 7052 | AF20: 6533 | AG20: 9042 | AH20: 11718 | AI20: 6002 | AJ20: 14741 | AK20: 20909 | AL20: 7140 | AM20: 9061 | AN20: 15258 | AO20: 19837 | AP20: 9519 | AQ20: 13974 | AR20: 12361 | AS20: 22600 | AT20: 33950 | AU20: 25150
A21: 45768 | B21: 2488.42 | C21: 8220 | D21: 8331 | E21: 7804 | F21: 3132 | G21: 6421 | H21: 10335 | I21: 13492 | J21: 9045 | K21: 29259 | L21: 176600 | N21: 71700 | O21: 17805 | P21: 9446 | Q21: 55400 | R21: 8405 | S21: 2966 | T21: 7405 | U21: 16969 | V21: 13000 | W21: 9586 | X21: 11341 | Y21: 2905 | Z21: 9486 | AA21: 3041 | AB21: 19890 | AC21: 7786 | AD21: 35774 | AE21: 6983 | AF21: 6528 | AG21: 9086 | AH21: 11659 | AI21: 5967 | AJ21: 14904 | AK21: 20395 | AL21: 7240 | AM21: 9151 | AN21: 15239 | AO21: 19758 | AP21: 9519 | AQ21: 13734 | AR21: 12476 | AS21: 21750 | AT21: 33050 | AU21: 24400
A22: 45769 | B22: 2486.64 | C22: 8244 | D22: 8364 | E22: 7942 | F22: 3113 | G22: 6401 | H22: 10265 | I22: 13595 | J22: 9030 | K22: 28924 | L22: 173800 | N22: 71700 | O22: 18043 | P22: 9061 | Q22: 55000 | R22: 8490 | S22: 2936 | T22: 7475 | U22: 16887 | V22: 12896 | W22: 9547 | X22: 11336 | Y22: 2965 | Z22: 9416 | AA22: 3021 | AB22: 20490 | AC22: 7811 | AD22: 36597 | AE22: 6978 | AF22: 6494 | AG22: 9180 | AH22: 11629 | AI22: 6017 | AJ22: 14977 | AK22: 20874 | AL22: 7111 | AM22: 8926 | AN22: 15239 | AO22: 19412 | AP22: 9494 | AQ22: 13944 | AR22: 12386 | AS22: 22050 | AT22: 33550 | AU22: 25850
A23: 45770 | B23: 2525.56 | C23: 8296 | D23: 8471 | E23: 8095 | F23: 3147 | G23: 6421 | H23: 10493 | I23: 13714 | J23: 9297 | K23: 30220 | L23: 181000 | N23: 71100 | O23: 17969 | P23: 9283 | Q23: 55700 | R23: 8540 | S23: 2976 | T23: 7495 | U23: 17438 | V23: 13610 | W23: 9800 | X23: 11391 | Y23: 2960 | Z23: 9675 | AA23: 3001 | AB23: 20070 | AC23: 7835 | AD23: 36043 | AE23: 7003 | AF23: 6489 | AG23: 9091 | AH23: 11530 | AI23: 6221 | AJ23: 15068 | AK23: 21164 | AL23: 7513 | AM23: 9400 | AN23: 15209 | AO23: 19560 | AP23: 9474 | AQ23: 14009 | AR23: 12296 | AS23: 22150 | AT23: 33800 | AU23: 26350
A24: 45771 | B24: 2522.33 | C24: 8320 | D24: 8443 | E24: 8095 | F24: 3201 | G24: 6480 | H24: 10890 | I24: 13650 | J24: 9381 | K24: 29836 | L24: 178300 | N24: 74800 | O24: 18177 | P24: 9229 | Q24: 55700 | R24: 8560 | S24: 2956 | T24: 7410 | U24: 17433 | V24: 13420 | W24: 9781 | X24: 11356 | Y24: 2965 | Z24: 9561 | AA24: 3051 | AB24: 20135 | AC24: 7860 | AD24: 36223 | AE24: 7151 | AF24: 6632 | AG24: 9184 | AH24: 11550 | AI24: 6286 | AJ24: 15078 | AK24: 22067 | AL24: 7459 | AM24: 9295 | AN24: 15515 | AO24: 19813 | AP24: 9399 | AQ24: 13989 | AR24: 12600 | AS24: 22600 | AT24: 34700 | AU24: 26500
A25: 45772 | B25: 2546.3 | C25: 8407 | D25: 8424 | E25: 8172 | F25: 3201 | G25: 6510 | H25: 11420 | I25: 13719 | J25: 9564 | K25: 30349 | L25: 184400 | N25: 74900 | O25: 18316 | P25: 9570 | Q25: 55700 | R25: 8540 | S25: 2971 | T25: 7315 | U25: 17394 | V25: 13595 | W25: 9961 | X25: 11386 | Y25: 3000 | Z25: 9789 | AA25: 3096 | AB25: 20390 | AC25: 7845 | AD25: 37350 | AE25: 7444 | AF25: 6573 | AG25: 9209 | AH25: 11614 | AI25: 6411 | AJ25: 15212 | AK25: 23180 | AL25: 7528 | AM25: 9569 | AN25: 15377 | AO25: 20189 | AP25: 9355 | AQ25: 13859 | AR25: 12725 | AS25: 23600 | AT25: 36750 | AU25: 27150
A26: 45775 | B26: 2548.86 | C26: 8373 | D26: 8485 | E26: 8215 | F26: 3265 | G26: 6570 | H26: 11420 | I26: 13640 | J26: 9470 | K26: 29535 | L26: 182000 | N26: 75000 | O26: 18495 | P26: 9550 | Q26: 55800 | R26: 8370 | S26: 3030 | T26: 7210 | U26: 17404 | V26: 13615 | W26: 9932 | X26: 11530 | Y26: 3010 | Z26: 9670 | AA26: 3096 | AB26: 20560 | AC26: 7910 | AD26: 37285 | AE26: 7548 | AF26: 6657 | AG26: 9248 | AH26: 11555 | AI26: 6381 | AJ26: 15179 | AK26: 23355 | AL26: 7220 | AM26: 9360 | AN26: 15145 | AO26: 20535 | AP26: 9195 | AQ26: 13510 | AR26: 12715 | AS26: 25050 | AT26: 37700 | AU26: 27900
... A180: 46006 | B180: 4090.59 | C180: 12421 | D180: 12430 | E180: 14860 | F180: 4130 | G180: 6085 | H180: 22400 | I180: 26285 | J180: 13600 | K180: 56095 | L180: 554000 | N180: 251000 | O180: 23475 | P180: 24125 | Q180: 104800 | R180: 12840 | S180: 3460 | T180: 9020 | U180: 24784 | V180: 19635 | W180: 16360 | X180: 12830 | Y180: 2975 | Z180: 21780 | AA180: 3345 | AB180: 28595 | AC180: 9330 | AD180: 50645 | AE180: 13995 | AF180: 7430 | AG180: 12330 | AH180: 11795 | AI180: 8485 | AJ180: 20759 | AK180: 34050 | AL180: 10785 | AM180: 17365 | AN180: 19090 | AO180: 42395 | AP180: 13970 | AQ180: 17905 | AR180: 14350 | AS180: 38400 | AT180: 84300 | AU180: 43850
A181: 46007 | B181: 3999.13 | C181: 12258 | D181: 12340 | E181: 14890 | F181: 4020 | G181: 6040 | H181: 21735 | I181: 25290 | J181: 13165 | K181: 54205 | L181: 530000 | M181: 9835 | N181: 264000 | O181: 22680 | P181: 23925 | Q181: 102800 | R181: 12665 | S181: 3450 | T181: 8890 | U181: 24295 | V181: 18730 | W181: 16040 | X181: 12570 | Y181: 2900 | Z181: 21060 | AA181: 3415 | AB181: 27795 | AC181: 9105 | AD181: 49065 | AE181: 13640 | AF181: 7440 | AG181: 12595 | AH181: 11725 | AI181: 8150 | AJ181: 20539 | AK181: 32585 | AL181: 10545 | AM181: 16625 | AN181: 18790 | AO181: 41700 | AP181: 13800 | AQ181: 17850 | AR181: 14695 | AS181: 37800 | AT181: 83500 | AU181: 42000
A182: 46008 | B182: 4056.41 | C182: 12436 | D182: 12600 | E182: 14595 | F182: 4100 | G182: 6065 | H182: 21995 | I182: 24900 | J182: 13375 | K182: 56205 | L182: 551000 | M182: 9675 | N182: 256500 | O182: 22845 | P182: 23710 | Q182: 107900 | R182: 12305 | S182: 3375 | T182: 8755 | U182: 24579 | V182: 18795 | W182: 16175 | X182: 12635 | Y182: 2925 | Z182: 21580 | AA182: 3390 | AB182: 27675 | AC182: 9080 | AD182: 48935 | AE182: 13570 | AF182: 7460 | AG182: 12460 | AH182: 11790 | AI182: 8250 | AJ182: 20534 | AK182: 32275 | AL182: 10990 | AM182: 17200 | AN182: 18385 | AO182: 41700 | AP182: 13530 | AQ182: 17395 | AR182: 14580 | AS182: 37300 | AT182: 80800 | AU182: 41600
A183: 46009 | B183: 3994.51 | C183: 12337 | D183: 12410 | E183: 14800 | F183: 4040 | G183: 5990 | H183: 21200 | I183: 24460 | J183: 12730 | K183: 55590 | L183: 552000 | M183: 9610 | N183: 243500 | O183: 23285 | P183: 22840 | Q183: 107600 | R183: 12200 | S183: 3390 | T183: 8760 | U183: 24075 | V183: 17650 | W183: 15715 | X183: 12605 | Y183: 2920 | Z183: 21300 | AA183: 3335 | AB183: 27465 | AC183: 9025 | AD183: 48075 | AE183: 13135 | AF183: 7395 | AG183: 12205 | AH183: 11835 | AI183: 7945 | AJ183: 20455 | AK183: 31310 | AL183: 10600 | AM183: 16875 | AN183: 18280 | AO183: 40500 | AP183: 13375 | AQ183: 17335 | AR183: 14235 | AS183: 37100 | AT183: 80500 | AU183: 39850
A184: 46010 | B184: 4020.55 | C184: 12466 | D184: 12525 | E184: 15140 | F184: 4045 | G184: 6025 | H184: 21710 | I184: 25405 | J184: 12920 | K184: 55300 | L184: 547000 | M184: 10095 | N184: 243000 | O184: 23995 | P184: 23195 | Q184: 106300 | R184: 12450 | S184: 3410 | T184: 8855 | U184: 24744 | V184: 17665 | W184: 15875 | X184: 12740 | Y184: 2960 | Z184: 21510 | AA184: 3340 | AB184: 28565 | AC184: 9140 | AD184: 50000 | AE184: 13565 | AF184: 7375 | AG184: 12250 | AH184: 11780 | AI184: 8070 | AJ184: 20489 | AK184: 32880 | AL184: 10670 | AM184: 16790 | AN184: 18580 | AO184: 41305 | AP184: 13685 | AQ184: 17800 | AR184: 14320 | AS184: 37500 | AT184: 85000 | AU184: 42250
A185: 46013 | B185: 4105.93 | C185: 12663 | D185: 12740 | E185: 15215 | F185: 4145 | G185: 6065 | H185: 21970 | I185: 25950 | J185: 13115 | K185: 57990 | L185: 580000 | M185: 10230 | N185: 244000 | O185: 26185 | P185: 23450 | Q185: 110500 | R185: 12345 | S185: 3455 | T185: 8815 | U185: 24819 | V185: 17990 | W185: 16010 | X185: 12810 | Y185: 2995 | Z185: 21840 | AA185: 3360 | AB185: 29300 | AC185: 9210 | AD185: 50805 | AE185: 13570 | AF185: 7420 | AG185: 12260 | AH185: 11860 | AI185: 8205 | AJ185: 20764 | AK185: 32580 | AL185: 11095 | AM185: 17630 | AN185: 18805 | AO185: 41585 | AP185: 13705 | AQ185: 17570 | AR185: 14445 | AS185: 38700 | AT185: 91200 | AU185: 43350
A186: 46014 | B186: 4117.32 | C186: 12604 | D186: 12910 | E186: 15390 | F186: 4100 | G186: 6070 | H186: 22055 | I186: 25900 | J186: 13125 | K186: 58295 | L186: 584000 | M186: 10590 | N186: 236000 | O186: 24930 | P186: 23040 | Q186: 111500 | R186: 12150 | S186: 3415 | T186: 8770 | U186: 24439 | V186: 17845 | W186: 15935 | X186: 12960 | Y186: 3040 | Z186: 21735 | AA186: 3305 | AB186: 29535 | AC186: 9255 | AD186: 52595 | AE186: 13805 | AF186: 7355 | AG186: 12155 | AH186: 11800 | AI186: 8225 | AJ186: 20599 | AK186: 34100 | AL186: 11060 | AM186: 17510 | AN186: 18540 | AO186: 41215 | AP186: 13630 | AQ186: 17320 | AR186: 14175 | AS186: 39100 | AT186: 97100 | AU186: 45200
A187: 46015 | B187: 4108.62 | C187: 12673 | D187: 13000 | E187: 15300 | F187: 4115 | G187: 6135 | H187: 21995 | I187: 25590 | J187: 13010 | K187: 57800 | L187: 588000 | M187: 10235 | N187: 233000 | O187: 25515 | P187: 22940 | Q187: 111100 | R187: 12140 | S187: 3445 | T187: 8645 | U187: 24524 | V187: 17970 | W187: 16145 | X187: 13030 | Y187: 3000 | Z187: 21675 | AA187: 3270 | AB187: 29200 | AC187: 9290 | AD187: 51505 | AE187: 13580 | AF187: 7350 | AG187: 12145 | AH187: 11945 | AI187: 8170 | AJ187: 20674 | AK187: 33180 | AL187: 10980 | AM187: 17520 | AN187: 18475 | AO187: 40910 | AP187: 13630 | AQ187: 17225 | AR187: 14085 | AS187: 35800 | AT187: 93300 | AU187: 44700
A188: 46017 | B188: 4129.68 | C188: 12594 | D188: 12710 | E188: 15175 | F188: 4060 | G188: 6045 | H188: 21380 | I188: 25485 | J188: 12750 | K188: 59525 | L188: 599000 | M188: 10030 | N188: 230000 | O188: 25095 | P188: 22390 | Q188: 117000 | R188: 12325 | S188: 3385 | T188: 8715 | U188: 24305 | V188: 17710 | W188: 15800 | X188: 12755 | Y188: 2935 | Z188: 22025 | AA188: 3195 | AB188: 28480 | AC188: 9155 | AD188: 50375 | AE188: 13185 | AF188: 7245 | AG188: 12025 | AH188: 11765 | AI188: 8010 | AJ188: 20554 | AK188: 32550 | AL188: 11300 | AM188: 17805 | AN188: 18210 | AO188: 40040 | AP188: 13680 | AQ188: 17530 | AR188: 13825 | AS188: 34350 | AT188: 93800 | AU188: 42900
A189: 46020 | B189: 4220.56 | C189: 12658 | D189: 12780 | E189: 15530 | F189: 4110 | G189: 6005 | H189: 21585 | I189: 26330 | J189: 12745 | K189: 60755 | L189: 640000 | M189: 9910 | N189: 234500 | O189: 26105 | P189: 23545 | Q189: 119500 | R189: 12595 | S189: 3390 | T189: 8970 | U189: 24554 | V189: 17660 | W189: 15970 | X189: 12995 | Y189: 2990 | Z189: 22630 | AA189: 3255 | AB189: 30155 | AC189: 9380 | AD189: 52790 | AE189: 13555 | AF189: 7255 | AG189: 12025 | AH189: 11750 | AI189: 8065 | AJ189: 20509 | AK189: 32835 | AL189: 11265 | AM189: 18045 | AN189: 18775 | AO189: 40995 | AP189: 13645 | AQ189: 17980 | AR189: 13995 | AS189: 34900 | AT189: 91200 | AU189: 42550
A190: 46021 | B190: 4214.17 | C190: 12535 | D190: 12855 | E190: 15235 | F190: 4115 | G190: 6040 | H190: 21190 | I190: 26275 | J190: 12655 | K190: 61300 | L190: 651000 | M190: 9830 | N190: 231000 | O190: 26380 | P190: 22900 | Q190: 119900 | R190: 12490 | S190: 3420 | T190: 8975 | U190: 24809 | V190: 17060 | W190: 15955 | X190: 13115 | Y190: 3035 | Z190: 22635 | AA190: 3250 | AB190: 29800 | AC190: 9355 | AD190: 52115 | AE190: 13300 | AF190: 7255 | AG190: 11940 | AH190: 11680 | AI190: 7925 | AJ190: 20544 | AK190: 32385 | AL190: 11510 | AM190: 17965 | AN190: 18800 | AO190: 40865 | AP190: 13665 | AQ190: 17990 | AR190: 13990 | AS190: 34000 | AT190: 89500 | AU190: 42950
A191: 46024 | B191: 4309.63 | C191: 12505 | D191: 12785 | E191: 15585 | F191: 4080 | G191: 6255 | H191: 21160 | I191: 26850 | J191: 12420 | K191: 65480 | L191: 677000 | M191: 9530 | N191: 233000 | O191: 28585 | P191: 24040 | Q191: 128500 | R191: 12425 | S191: 3430 | T191: 9225 | U191: 24899 | V191: 16600 | W191: 15895 | X191: 13535 | Y191: 3140 | Z191: 23720 | AA191: 3435 | AB191: 30600 | AC191: 9650 | AD191: 53000 | AE191: 13405 | AF191: 7435 | AG191: 12015 | AH191: 11640 | AI191: 7835 | AJ191: 20450 | AK191: 32115 | AL191: 12480 | AM191: 19130 | AN191: 19235 | AO191: 40750 | AP191: 13460 | AQ191: 18150 | AR191: 14605 | AS191: 33450 | AT191: 85000 | AU191: 42050
A192: 46027 | B192: 4457.52 | C192: 12663 | D192: 12890 | E192: 15765 | F192: 4215 | G192: 6175 | H192: 21795 | I192: 26835 | J192: 12760 | K192: 68600 | L192: 696000 | M192: 9545 | N192: 235000 | O192: 30350 | P192: 25030 | Q192: 138100 | R192: 12705 | S192: 3380 | T192: 9365 | U192: 24928 | V192: 17055 | W192: 16210 | X192: 13360 | Y192: 3040 | Z192: 24315 | AA192: 3400 | AB192: 32245 | AC192: 9655 | AD192: 55410 | AE192: 14015 | AF192: 7370 | AG192: 12270 | AH192: 11565 | AI192: 7970 | AJ192: 20514 | AK192: 32500 | AL192: 12800 | AM192: 19950 | AN192: 19280 | AO192: 43730 | AP192: 13550 | AQ192: 18640 | AR192: 14500 | AS192: 33200 | AT192: 86500 | AU192: 41900
... A267: 46136 | B267: 6475.63 | C267: 15980 | D267: 16155 | E267: 28420 | F267: 9415 | G267: 7000 | H267: 49475 | I267: 33980 | J267: 18285 | K267: 119595 | L267: 1222000 | M267: 14945 | N267: 450000 | O267: 47660 | P267: 45340 | Q267: 219500 | R267: 12535 | S267: 3405 | T267: 8295 | U267: 32280 | V267: 26010 | W267: 23830 | X267: 12220 | Y267: 2605 | Z267: 47425 | AA267: 4175 | AB267: 50985 | AC267: 9350 | AD267: 80200 | AE267: 19700 | AF267: 8270 | AG267: 14500 | AH267: 12530 | AI267: 14390 | AJ267: 26580 | AK267: 42295 | AL267: 21660 | AM267: 34580 | AN267: 18660 | AO267: 86220 | AP267: 13600 | AQ267: 18685 | AR267: 18135 | AS267: 57300 | AT267: 114600 | AU267: 76000
A268: 46139 | AS268: 59900 | AT268: 115500 | AU268: 88500
